BEGIN:VCALENDAR
VERSION:2.0
PRODID:-//eventon.com NONSGML v1.0//EN
CALSCALE:GREGORIAN
METHOD:PUBLISH
BEGIN:VEVENT
UID:69e5e0e69d126
DTSTAMP:20260420T081638Z
DTSTART:20210404T090000Z
DTEND:20210404T135000Z
LOCATION:Royal Hotel Queanbeyan Royal Hotel Queanbeyan
SUMMARY:GOOD FOLK - Kim Yang Trio
DESCRIPTION:Door Sales: Tickets available at door. Subject to availability.
  &nbsp; Kim Yang Trio Inspired by Joni Mitchell and Bon Iver\,  Canberra&#8
 217;s indie-folk singer-songwriter Kim Yang writes songs that speak from he
 r experiences as a partner\,  a woman\,  a traveller and an insecure soul.
  Her ethereal sound balances delicately between vulnerability and power.[.
 .]\nhttps://www.royalhotelqbn.com.au/events/good-folk-kim-yang-trio/
URL:https://www.royalhotelqbn.com.au/events/good-folk-kim-yang-trio/
END:VEVENT
END:VCALENDAR