BEGIN:VCALENDAR
VERSION:2.0
PRODID:-//eventon.com NONSGML v1.0//EN
CALSCALE:GREGORIAN
METHOD:PUBLISH
BEGIN:VEVENT
UID:69e5f77879257
DTSTAMP:20260420T095256Z
DTSTART:20260426T030000Z
DTEND:20260426T060000Z
LOCATION:Royal Hotel Queanbeyan Royal Hotel Queanbeyan
SUMMARY:Live Music - Sunday
DESCRIPTION:Wrap up your weekend with live music by Marty K at the Royal H
 otel Queanbeyan this Sunday from 1-4pm! Relax and enjoy a soothing afternoo
 n of music in a laid-back\,  friendly environment. Don&#8217;t miss out on 
 a great time together\,  book a table at our bistro for a delicious lunch a
 nd[..]\nhttps://www.royalhotelqbn.com.au/events/livemusicsunday1/
URL:https://www.royalhotelqbn.com.au/events/livemusicsunday1/
END:VEVENT
END:VCALENDAR