BEGIN:VCALENDAR
VERSION:2.0
PRODID:-//eventon.com NONSGML v1.0//EN
CALSCALE:GREGORIAN
METHOD:PUBLISH
BEGIN:VEVENT
UID:69e5f7a7e461d
DTSTAMP:20260420T095343Z
DTSTART:20260425T030000Z
DTEND:20260425T060000Z
LOCATION:Royal Hotel Queanbeyan Royal Hotel Queanbeyan
SUMMARY:Live Music - Saturday
DESCRIPTION:Saturday night is for live music at the Royal Hotel Queanbeyan!
  Join us from 1-4pm for an ANZAC Day filled with great music by Dan Millane
 . Bring your friends and family\,  book a table at our bistro and enjoy a w
 onderful meal with drinks while soaking up the atmosphere. Check[..]\nhttps
 ://www.royalhotelqbn.com.au/events/livemusicsaturday1/
URL:https://www.royalhotelqbn.com.au/events/livemusicsaturday1/
END:VEVENT
END:VCALENDAR