BEGIN:VCALENDAR
VERSION:2.0
PRODID:-//eventon.com NONSGML v1.0//EN
CALSCALE:GREGORIAN
METHOD:PUBLISH
BEGIN:VEVENT
UID:69e5f83e19441
DTSTAMP:20260420T095614Z
DTSTART:20260424T100000Z
DTEND:20260424T130000Z
LOCATION:Royal Hotel Queanbeyan Royal Hotel Queanbeyan
SUMMARY:Live Music - Friday
DESCRIPTION:Join us this Friday for live music at the Royal Hotel Queanbeya
 n.  From 8-11pm\,  Nick Rigby will take to the stage and entertain you wit
 h great tunes! Enjoy a lively performance that will set you up for a great 
 weekend. Book a table at our bistro and treat yourself to[..]\nhttps://www.
 royalhotelqbn.com.au/events/livemusicfriday1/
URL:https://www.royalhotelqbn.com.au/events/livemusicfriday1/
END:VEVENT
END:VCALENDAR