BEGIN:VCALENDAR
VERSION:2.0
PRODID:-//eventon.com NONSGML v1.0//EN
CALSCALE:GREGORIAN
METHOD:PUBLISH
BEGIN:VEVENT
UID:69e5f7a8075b0
DTSTAMP:20260420T095344Z
DTSTART:20260423T080000Z
DTEND:20260423T110000Z
LOCATION:Royal Hotel Queanbeyan Royal Hotel Queanbeyan
SUMMARY:Live Music - Thursday
DESCRIPTION:Kick off your weekend early with our live music at the Royal Ho
 tel Queanbeyan. This Thursday\,  Della will take the stage from 6pm! Enjoy 
 great tunes in a relaxed atmosphere while you unwind after a busy week. Mak
 e it a night to remember by booking a table at our bistro[..]\nhttps://www.
 royalhotelqbn.com.au/events/livemusicthursday1/
URL:https://www.royalhotelqbn.com.au/events/livemusicthursday1/
END:VEVENT
END:VCALENDAR