BEGIN:VCALENDAR
VERSION:2.0
PRODID:-//eventon.com NONSGML v1.0//EN
CALSCALE:GREGORIAN
METHOD:PUBLISH
BEGIN:VEVENT
UID:69e5f79f89639
DTSTAMP:20260420T095335Z
DTSTART:20240823T083000Z
DTEND:20240823T135900Z
LOCATION:Royal Hotel Queanbeyan Royal Hotel Queanbeyan
SUMMARY:Confetti & Chaos – Join the party!
DESCRIPTION:Brought to you by the makers of Faulty Towers: The Dining Exper
 ience &#8211; This might just be the worst wedding reception you’ll ever 
 go to! It was meant to be a surprise party but it&#8217;s turned into pande
 monium &#8211; with secrets spilling out as family members bust in\,  bust 
 up[..]\nhttps://www.royalhotelqbn.com.au/events/confettiandchaos/
URL:https://www.royalhotelqbn.com.au/events/confettiandchaos/
END:VEVENT
END:VCALENDAR