BEGIN:VCALENDAR
VERSION:2.0
PRODID:-//eventon.com NONSGML v1.0//EN
CALSCALE:GREGORIAN
METHOD:PUBLISH
BEGIN:VEVENT
UID:69e5dfdaf37eb
DTSTAMP:20260420T081210Z
DTSTART:20251031T100000Z
DTEND:20251031T125900Z
LOCATION:Royal Hotel Queanbeyan Royal Hotel Queanbeyan
SUMMARY:Halloween Dance Party in The Upperhouse
DESCRIPTION:Halloween Dance Party at The Upperhouse – Friday 31st October
  Halloween is coming to The Upperhouse at Royal Hotel Queanbeyan – and yo
 u’re invited. Start the night downstairs with dinner in the bistro\,  the
 n head upstairs where the dance floor comes alive. From 9pm\,  DJ Sal will 
 be dropping tracks[..]\nhttps://www.royalhotelqbn.com.au/events/halloween-d
 ance-party/
URL:https://www.royalhotelqbn.com.au/events/halloween-dance-party/
END:VEVENT
END:VCALENDAR