BEGIN:VCALENDAR
VERSION:2.0
PRODID:-//eventon.com NONSGML v1.0//EN
CALSCALE:GREGORIAN
METHOD:PUBLISH
BEGIN:VEVENT
UID:69e5f7d30d9d9
DTSTAMP:20260420T095427Z
DTSTART:20260421T083000Z
DTEND:20260421T135900Z
LOCATION:Royal Hotel Queanbeyan Royal Hotel Queanbeyan
SUMMARY:Tuesday Night Poker Tournament
DESCRIPTION:Poker Nights at Royal Hotel Queanbeyan – Every Tuesday in the
  Upperhouse Join us every Tuesday for our weekly tournaments held in The Up
 perhouse\,  upstairs at the Royal Hotel Queanbeyan. Enjoy a night of strate
 gy\,  skill\,  and social fun every Tuesday. $1500 Guaranteed Prize Pool $3
 0 Entry 4x Re-Entry Available[..]\nhttps://www.royalhotelqbn.com.au/events/
 tuesday-night-poker-tournament/
URL:https://www.royalhotelqbn.com.au/events/tuesday-night-poker-tournament/
END:VEVENT
END:VCALENDAR