BEGIN:VCALENDAR
VERSION:2.0
PRODID:-//eventon.com NONSGML v1.0//EN
CALSCALE:GREGORIAN
METHOD:PUBLISH
BEGIN:VEVENT
UID:69e73b9f5f6eb
DTSTAMP:20260421T085559Z
DTSTART:20251214T020000Z
DTEND:20251214T050000Z
LOCATION:
SUMMARY:Matt Dent – Live Music for Christmas
DESCRIPTION:Enjoy a relaxed Sunday with Matt Dent on 14 December\,  live in
  the bistro from 1–4 pm. His earthy acoustic sound adds an easygoing feel
  to our 14 Days of Live Music for Christmas. The bistro is open 12 pm to 9 
 pm for lunch or dinner. Join us and[..]\nhttps://www.royalhotelqbn.com.au/e
 vents/matt-dent-live-music-for-christmas/
URL:https://www.royalhotelqbn.com.au/events/matt-dent-live-music-for-christmas/
END:VEVENT
END:VCALENDAR