BEGIN:VCALENDAR
VERSION:2.0
PRODID:-//eventon.com NONSGML v1.0//EN
CALSCALE:GREGORIAN
METHOD:PUBLISH
BEGIN:VEVENT
UID:69e73c3d15f3b
DTSTAMP:20260421T085837Z
DTSTART:20251221T020000Z
DTEND:20251221T050000Z
LOCATION:
SUMMARY:Timothy Patterson – Live Music for Christmas
DESCRIPTION:Timothy Patterson returns on Sunday 21 December\,  performing 1
 –4 pm. His heartfelt acoustic sound brings a warm Sunday feel to our 14 D
 ays of Live Music for Christmas. The bistro is open 12 pm to 9 pm for lunch
  or dinner. Join us and celebrate the Christmas season at RHQ.\nhttps://www
 .royalhotelqbn.com.au/events/timothy-patterson-live-music-for-christmas-2/
URL:https://www.royalhotelqbn.com.au/events/timothy-patterson-live-music-for-christmas-2/
END:VEVENT
END:VCALENDAR