BEGIN:VCALENDAR
VERSION:2.0
PRODID:-//eventon.com NONSGML v1.0//EN
CALSCALE:GREGORIAN
METHOD:PUBLISH
BEGIN:VEVENT
UID:69e4d6314b8d5
DTSTAMP:20260419T131841Z
DTSTART:20260329T003000Z
DTEND:20260329T125900Z
LOCATION:The Upperhouse 85 Monaro Street
SUMMARY:Sunday Table – a Levantine-Inspired Vegan Lunch
DESCRIPTION:Gather your friends and family for Sunday Table\,  a Levantine-
 inspired vegan lunch in the Manhattan Room in The Upperhouse above the Roya
 l Hotel Queanbeyan. Start with mezze and finish with raspberry baklava chee
 secake; this is a plant-based celebration of the bold\,  aromatic flavours 
 of the Levant. Executive chef Wayne has[..]\nhttps://www.royalhotelqbn.com.
 au/events/sunday-table-a-levantine-inspired-vegan-lunch/
URL:https://www.royalhotelqbn.com.au/events/sunday-table-a-levantine-inspired-vegan-lunch/
END:VEVENT
END:VCALENDAR