BEGIN:VCALENDAR
VERSION:2.0
PRODID:-//eventon.com NONSGML v1.0//EN
CALSCALE:GREGORIAN
METHOD:PUBLISH
BEGIN:VEVENT
UID:69e5f71e802dd
DTSTAMP:20260420T095126Z
DTSTART:20261114T070000Z
DTEND:20261114T125900Z
LOCATION:Royal Hotel Queanbeyan Royal Hotel Queanbeyan
SUMMARY:McCartney - Wings Over Australia
DESCRIPTION:The Galaxy Guardians’ present: McCartney &#8211; Wings Over A
 ustralia 50th Anniversary Tribute Tour 50 years ago Paul McCartney conclude
 d his two year Wings over the world 1975-76 tour &amp; a triple live album 
 from his US sector entitled Wings Over America came out featuring Beatles a
 nd Wings songs. To celebrate[..]\nhttps://www.royalhotelqbn.com.au/events/m
 ccartney/
URL:https://www.royalhotelqbn.com.au/events/mccartney/
END:VEVENT
END:VCALENDAR